Workbook

Sheet SiopeAllegatoB
A2: Esportazione Mandati x SIOPE
A3: Numero Mandato | B3: Data Mandato | C3: Creditore | D3: Causale Mandato | E3: Provvedimento Impegno | F3: Area Gestione | G3: Codice CIG | H3: Codice Siope | I3: Descrizione Siope | J3: Importo Mandato | K3: Consip/Mepa | L3: di cui Acquisto Consip/Mepa

Sheet Fatture
A1: Comune di DEMO
A3: D.L. 66 / 2014 - Tempestività dei Pagamenti - Elenco Fatture Pagate
AA4: Numero Giorni Pagamento Standard (D) | AH4: 30
A5: Registrazione | D5: Documento | I5: Protocollo | L5: Creditore | O5: Area Gestione | Q5: Capitolo di Bilancio | U5: Impegno | X5: Liquidazione | Y5: Mandato | AA5: Estremi Calcolo D.L. 66/2014
A6: Anno | B6: Progr. | C6: Data (A) | D6: Numero | E6: Data | F6: Descrizione | G6: Importo | H6: CIG | I6: Anno | J6: Numero | K6: Data (B) | L6: Ragione Sociale | M6: Partita IVA | N6: Codice Fiscale | O6: Codice | P6: Descrizione | Q6: Codice | R6: Voce | S6: Capitolo | T6: Articolo | U6: Anno | V6: Numero | W6: Sub | X6: Data | Y6: Numero | Z6: Data (C) | AA6: Ricezione (E=B o A) | AB6: Pagamento (C) | AC6: Diff. (F=C-E) | AD6: (D) | AE6: Gg. Pag. (G) | AF6: H=G o D | AG6: Ritardi x Responsabilità Creditore | AH6: Differenza

Sheet Mandati
A3: D.L. 66 / 2014 - Tempestività dei Pagamenti - Elenco Mandati senza Fatture
K5: Numero Giorni Pagamento Standard (D) | R5: 30
A6: Numero Mandato | B6: Data Mandato | C6: Creditore | D6: Causale Mandato | E6: Provvedimento Impegno | F6: Area Gestione | G6: Codice CIG | H6: Codice Siope | I6: Descrizione Siope | J6: Importo Mandato | K6: Ricezione (A) | L6: Pagamento (B) | M6: Diff. (C=A-B) | N6: (D) | O6: Gg. Pag. (E) | P6: F=E o D | Q6: Ritardi x Responsabilità Creditore | R6: Differenza

Sheet FattureTempi
A1: Comune di Chamois
A3: Tempestività dei Pagamenti - Elenco Fatture Pagate - Periodo 01/10/2025 - 31/12/2025
A5: Registrazione | D5: Documento | L5: Protocollo | O5: Creditore | R5: Area Gestione | T5: Capitolo di Bilancio | X5: Impegno | AA5: Liquidazione | AB5: Mandato | AD5: Calcolo
A6: Anno | B6: Progr. | C6: Data (A) | D6: Numero | E6: Data | F6: Descrizione | G6: Importo Fattura | H6: IVA | I6: Scissione Pagamenti | J6: Importo Dovuto | K6: CIG | L6: Anno | M6: Numero | N6: Data (B) | O6: Ragione Sociale | P6: Partita IVA | Q6: Codice Fiscale | R6: Codice | S6: Descrizione | T6: Codice | U6: Voce | V6: Capitolo | W6: Articolo | X6: Anno | Y6: Numero | Z6: Sub | AA6: Data | AB6: Numero | AC6: Data (C) | AD6: Data Scadenza (A) | AE6: Data Pagamento (B) | AF6: Differenza giorni (C=B-A) | AG6: Importo Fattura (D) | AH6: Indicatore Fattura (E=C X D) | AI6: ESCLUDI DAL CALCOLO
A7: 2025 | B7: 107 | C7: 45805 | D7: 2025033106 | E7: 45790 | F7: DELIB.ARG/elt 74/08-ART.6.1 lett.c SCAMBIO SUL POSTO SSP01294899 | G7: 36.6 | H7: 6.6 | I7: SI | J7: =IF(I7="SI",G7-H7,G7) -> 30 | L7: 2025 | M7: 2225 | N7: 45792 | O7: GSE SPA - Gestore dei Servizi Energetici S.p.A. | P7: 05754381001 | Q7: 05754381001 | R7: 1 | S7: Amministrativa/Finanziaria | T7: 1000202 | U7: 10202 | V7: 10202 | W7: 29 | X7: 2025 | Y7: 125 | Z7: 0 | AB7: 533 | AC7: 45945 | AD7: 45822 | AE7: 45950 | AF7: =AE7-AD7 -> 128 | AG7: =IF(AI7="SI",0,J7) -> 30 | AH7: =AG7*AF7 -> 3840 | AI7: NO
A8: 2025 | B8: 108 | C8: 45805 | D8: 2025033644 | E8: 45800 | F8: DELIB.ARG/elt 74/08-ART.6.1 lett.c SCAMBIO SUL POSTO SSP01294899 | G8: 36.6 | H8: 6.6 | I8: SI | J8: =IF(I8="SI",G8-H8,G8) -> 30 | L8: 2025 | M8: 2323 | N8: 45800 | O8: GSE SPA - Gestore dei Servizi Energetici S.p.A. | P8: 05754381001 | Q8: 05754381001 | R8: 1 | S8: Amministrativa/Finanziaria | T8: 1000202 | U8: 10202 | V8: 10202 | W8: 29 | X8: 2025 | Y8: 125 | Z8: 0 | AB8: 533 | AC8: 45945 | AD8: 45830 | AE8: 45950 | AF8: =AE8-AD8 -> 120 | AG8: =IF(AI8="SI",0,J8) -> 30 | AH8: =AG8*AF8 -> 3600 | AI8: NO
A9: 2025 | B9: 173 | C9: 45877 | D9: P-400150 | E9: 45869 | F9: REDAZIONALE TESTATE ONLINE - CIRCUITO PRIMA.IT A LUGLIO - VALLEE NOTIZIE - FACEBOOK + AOSTA SERA | G9: 2135 | H9: 385 | I9: SI | J9: =IF(I9="SI",G9-H9,G9) -> 1750 | K9: B796DF63F3 | L9: 2025 | M9: 3890 | N9: 45871 | O9: NETWEEK ADV SRL | P9: 03626630044 | Q9: 03626630044 | R9: 1 | S9: Amministrativa/Finanziaria | T9: 1000202 | U9: 10202 | V9: 10202 | W9: 28 | X9: 2025 | Y9: 165 | Z9: 0 | AB9: 459 | AC9: 45898 | AD9: 45901 | AE9: 45943 | AF9: =AE9-AD9 -> 42 | AG9: =IF(AI9="SI",0,J9) -> 1750 | AH9: =AG9*AF9 -> 73500 | AI9: NO
A10: 2025 | B10: 194 | C10: 45919 | D10: FE000120250003092597 | E10: 45917 | F10: FE000120250000000003092597B/BOLLETTAZIONE MASSIVA Fornitura di energia elettrica | G10: 602.19 | H10: 108.59 | I10: SI | J10: =IF(I10="SI",G10-H10,G10) -> 493.6 | K10: B521B71C55 | L10: 2025 | M10: 4625 | N10: 45918 | O10: AGSM AIM Energia S.p.A. | P10: 02968430237 | R10: 1 | S10: Amministrativa/Finanziaria | T10: 1000202 | U10: 10202 | V10: 10202 | W10: 29 | X10: 2025 | Y10: 281 | Z10: 0 | AB10: 518 | AC10: 45938 | AD10: 45948 | AE10: 45943 | AF10: =AE10-AD10 -> -5 | AG10: =IF(AI10="SI",0,J10) -> 493.6 | AH10: =AG10*AF10 -> -2468 | AI10: NO
A11: 2025 | B11: 195 | C11: 45919 | D11: 20250015 | E11: 45910 | F11: Fornitura oggettistica della tradizione valdostana di lavorazione del legno | G11: 185 | H11: 0 | I11: NO | J11: =IF(I11="SI",G11-H11,G11) -> 185 | K11: B796F6FB0D | L11: 2025 | M11: 4485 | N11: 45910 | O11: COQUILLARD Dario D.I. | P11: 01023600073 | Q11: CQLDRA62P01A326C | R11: 1 | S11: Amministrativa/Finanziaria | T11: 1000102 | U11: 10102 | V11: 10102 | W11: 1 | X11: 2025 | Y11: 168 | Z11: 0 | AB11: 524 | AC11: 45938 | AD11: 45940 | AE11: 45943 | AF11: =AE11-AD11 -> 3 | AG11: =IF(AI11="SI",0,J11) -> 185 | AH11: =AG11*AF11 -> 555 | AI11: NO
A12: 2025 | B12: 196 | C12: 45919 | D12: 900200/25PA | E12: 45908 | F12: Contratto telefonia da Gennaio 2025 a Dicembre 2025 | G12: 363.32 | H12: 65.52 | I12: SI | J12: =IF(I12="SI",G12-H12,G12) -> 297.8 | K12: ZCC3D967E7 | L12: 2025 | M12: 4534 | N12: 45912 | O12: Telecomunicazioni Digitali FASTALP srl | P12: 01079120075 | Q12: 01079120075 | R12: 1 | S12: Amministrativa/Finanziaria | T12: 1000202 | U12: 10202 | V12: 10202 | W12: 29 | X12: 2025 | Y12: 317 | Z12: 0 | AB12: 520 | AC12: 45938 | AD12: 45942 | AE12: 45943 | AF12: =AE12-AD12 -> 1 | AG12: =IF(AI12="SI",0,J12) -> 297.8 | AH12: =AG12*AF12 -> 297.8 | AI12: NO
A13: 2025 | B13: 197 | C13: 45919 | D13: 900211/25PA | E13: 45908 | G13: 511.59 | H13: 92.25 | I13: SI | J13: =IF(I13="SI",G13-H13,G13) -> 419.34 | K13: B5355575DC | L13: 2025 | M13: 4519 | N13: 45912 | O13: Telecomunicazioni Digitali FASTALP srl | P13: 01079120075 | Q13: 01079120075 | R13: 1 | S13: Amministrativa/Finanziaria | T13: 1000202 | U13: 10202 | V13: 10202 | W13: 27 | X13: 2025 | Y13: 294 | Z13: 0 | AB13: 521 | AC13: 45938 | AD13: 45942 | AE13: 45943 | AF13: =AE13-AD13 -> 1 | AG13: =IF(AI13="SI",0,J13) -> 419.34 | AH13: =AG13*AF13 -> 419.34 | AI13: NO
A14: 2025 | B14: 198 | C14: 45919 | D14: FE000120250003100959 | E14: 45917 | F14: FE000120250000000003100959B/BOLLETTAZIONE MASSIVA Fornitura di energia elettrica | G14: 426.39 | H14: 76.89 | I14: SI | J14: =IF(I14="SI",G14-H14,G14) -> 349.5 | K14: B521B71C55 | L14: 2025 | M14: 4627 | N14: 45918 | O14: AGSM AIM Energia S.p.A. | P14: 02968430237 | R14: 1 | S14: Amministrativa/Finanziaria | T14: 1000202 | U14: 10202 | V14: 10202 | W14: 20 | X14: 2025 | Y14: 279 | Z14: 0 | AB14: 525 | AC14: 45938 | AD14: 45948 | AE14: 45943 | AF14: =AE14-AD14 -> -5 | AG14: =IF(AI14="SI",0,J14) -> 349.5 | AH14: =AG14*AF14 -> -1747.5 | AI14: NO
A15: 2025 | B15: 199 | C15: 45919 | D15: 941/007 | E15: 45900 | F15: PUBBLICITA | G15: 305 | H15: 55 | I15: SI | J15: =IF(I15="SI",G15-H15,G15) -> 250 | K15: B796F06469 | L15: 2025 | M15: 4516 | N15: 45911 | O15: LG PRESSE SRL | P15: 01141020071 | Q15: 01141020071 | R15: 1 | S15: Amministrativa/Finanziaria | T15: 1000202 | U15: 10202 | V15: 10202 | W15: 28 | X15: 2025 | Y15: 167 | Z15: 0 | AB15: 519 | AC15: 45938 | AD15: 45941 | AE15: 45943 | AF15: =AE15-AD15 -> 2 | AG15: =IF(AI15="SI",0,J15) -> 250 | AH15: =AG15*AF15 -> 500 | AI15: NO
A16: 2025 | B16: 200 | C16: 45919 | D16: 2025-1096105 | E16: 45900 | F16: FCM - FATTURA CLIENTI SCISSIONE DEI PAGAMENTI ai sensi dell'art.17-ter del Dpr 633/1972 Premio INAIL gia' incluso negli oneri Retributivi e Previdenziali. 8.17 euro | G16: 2697.85 | H16: 72.21 | I16: SI | J16: =IF(I16="SI",G16-H16,G16) -> 2625.64 | K16: B6398105D6 | L16: 2025 | M16: 4486 | N16: 45911 | O16: MANPOWER SRL | P16: 11947650153 | Q16: 11947650153 | R16: 1 | S16: Amministrativa/Finanziaria | T16: 1000202 | U16: 10202 | V16: 10202 | W16: 36 | X16: 2025 | Y16: 83 | Z16: 0 | AB16: 522 | AC16: 45938 | AD16: 45941 | AE16: 45943 | AF16: =AE16-AD16 -> 2 | AG16: =IF(AI16="SI",0,J16) -> 2625.64 | AH16: =AG16*AF16 -> 5251.28 | AI16: NO
A17: 2025 | B17: 201 | C17: 45919 | D17: 118/2025/FE | E17: 45910 | F17: Trib. AO Proc. Pen. imputato Sindaco Lorenzo PUCCI - RGNR 1296/22 - saldo | G17: 2539.22 | H17: 453.22 | I17: NO | J17: =IF(I17="SI",G17-H17,G17) -> 2539.22 | K17: ZBC3ABEC72 | L17: 2025 | M17: 4517 | N17: 45911 | O17: STUDIO LEGALE ASSOCIATO DUJANY - FANTINI - FAVRE - FOGNIER | P17: 00441380078 | R17: 1 | S17: Amministrativa/Finanziaria | T17: 1000202 | U17: 10202 | V17: 10202 | W17: 2 | X17: 2023 | Y17: 141 | Z17: 0 | AA17: 45952 | AB17: 541 | AC17: 45952 | AD17: 45941 | AE17: 45952 | AF17: =AE17-AD17 -> 11 | AG17: =IF(AI17="SI",0,J17) -> 2539.22 | AH17: =AG17*AF17 -> 27931.42 | AI17: NO
A18: 2025 | B18: 202 | C18: 45919 | D18: 206/001 | E18: 45911 | F18: N° 30 MANIFESTI CANDIDATI ELEZIONI F.TO 50X70 - STAMPA A 4 COLORI + N° 20 MANIFESTI PROCLAMAZIONE ELETTI F.TO 50X70 STAMPA A 1 COLORE - TIPOLITOGRAFIA DALLOU | G18: 158.6 | H18: 28.6 | I18: SI | J18: =IF(I18="SI",G18-H18,G18) -> 130 | K18: B81E11A874 | L18: 2025 | M18: 4533 | N18: 45912 | O18: TIPOLITOGRAFIA DALLOU di DALLOU Alberto | P18: 01004720072 | Q18: DLLLRT63P12A326H | R18: 1 | S18: Amministrativa/Finanziaria | T18: 1000202 | U18: 10202 | V18: 10202 | W18: 2 | X18: 2025 | Y18: 191 | Z18: 0 | AB18: 523 | AC18: 45938 | AD18: 45942 | AE18: 45943 | AF18: =AE18-AD18 -> 1 | AG18: =IF(AI18="SI",0,J18) -> 130 | AH18: =AG18*AF18 -> 130 | AI18: NO
A19: 2025 | B19: 203 | C19: 45938 | D19: 0002104758 | E19: 45930 | F19: FATT. IVA SPLIT P. | G19: 91.5 | H19: 16.5 | I19: SI | J19: =IF(I19="SI",G19-H19,G19) -> 75 | K19: Z493CEA7B7 | L19: 2025 | M19: 4857 | N19: 45932 | O19: MAGGIOLI TRIBUTI - M.T SpA | P19: 02638260402 | Q19: 06907290156 | R19: 1 | S19: Amministrativa/Finanziaria | T19: 1000202 | U19: 10202 | V19: 10202 | W19: 2 | X19: 2025 | Y19: 288 | Z19: 0 | AB19: 537 | AC19: 45945 | AD19: 45962 | AE19: 45950 | AF19: =AE19-AD19 -> -12 | AG19: =IF(AI19="SI",0,J19) -> 75 | AH19: =AG19*AF19 -> -900 | AI19: NO
A20: 2025 | B20: 204 | C20: 45938 | D20: 128 | E20: 45931 | G20: 1754.97 | H20: 0 | I20: NO | J20: =IF(I20="SI",G20-H20,G20) -> 1754.97 | K20: B411EAE625 | L20: 2025 | M20: 4834 | N20: 45931 | O20: STUDIO CAMPINI ASSOCIATI | P20: 01033500073 | Q20: 01033500073 | R20: 1 | S20: Amministrativa/Finanziaria | T20: 1000202 | U20: 10202 | V20: 10202 | W20: 2 | X20: 2025 | Y20: 355 | Z20: 0 | AA20: 45952 | AB20: 551 | AC20: 45952 | AD20: 45961 | AE20: 45954 | AF20: =AE20-AD20 -> -7 | AG20: =IF(AI20="SI",0,J20) -> 1754.97 | AH20: =AG20*AF20 -> -12284.79 | AI20: NO
A21: 2025 | B21: 205 | C21: 45938 | D21: 246/001 | E21: 45937 | F21: N° 30 MANIFESTI CANDIDATI ELEZIONI F.TO 50X70 - STAMPA A 4 COLORI + N° 20 MANIFESTI PROCLAMAZIONE ELETTI F.TO 50X70 STAMPA A 1 COLORE - TIPOLITOGRAFIA DALLOU | G21: 85.4 | H21: 15.4 | I21: SI | J21: =IF(I21="SI",G21-H21,G21) -> 70 | K21: B81E11A874 | L21: 2025 | M21: 4936 | N21: 45937 | O21: TIPOLITOGRAFIA DALLOU di DALLOU Alberto | P21: 01004720072 | Q21: DLLLRT63P12A326H | R21: 1 | S21: Amministrativa/Finanziaria | T21: 1000202 | U21: 10202 | V21: 10202 | W21: 2 | X21: 2025 | Y21: 191 | Z21: 0 | AB21: 536 | AC21: 45945 | AD21: 45967 | AE21: 45950 | AF21: =AE21-AD21 -> -17 | AG21: =IF(AI21="SI",0,J21) -> 70 | AH21: =AG21*AF21 -> -1190 | AI21: NO
A22: 2025 | B22: 206 | C22: 45938 | D22: 63 | E22: 45928 | G22: 1098 | H22: 0 | I22: NO | J22: =IF(I22="SI",G22-H22,G22) -> 1098 | K22: B7814A8F99 | L22: 2025 | M22: 4785 | N22: 45928 | O22: ROY PRODUZIONI diR. Tircoli | P22: 01042330074 | Q22: TRCRGR74D04A326Q | R22: 1 | S22: Amministrativa/Finanziaria | T22: 1000202 | U22: 10202 | V22: 10202 | W22: 27 | X22: 2025 | Y22: 143 | Z22: 0 | AA22: 45952 | AB22: 554 | AC22: 45952 | AD22: 45958 | AE22: 45954 | AF22: =AE22-AD22 -> -4 | AG22: =IF(AI22="SI",0,J22) -> 1098 | AH22: =AG22*AF22 -> -4392 | AI22: NO
A23: 2025 | B23: 207 | C23: 45938 | D23: FE/2624 | E23: 45923 | G23: 8807.01 | H23: 1766.9 | I23: SI | J23: =IF(I23="SI",G23-H23,G23) -> 7040.11 | K23: B847C71D40 | L23: 2025 | M23: 4749 | N23: 45925 | O23: BP Energia Srl | P23: 01532740667 | Q23: 01532740667 | R23: 2 | S23: Tecnico/Manutentiva | T23: 1000402 | U23: 10402 | V23: 10402 | W23: 3 | X23: 2025 | Y23: 192 | Z23: 0 | AB23: 534 | AC23: 45945 | AD23: 45955 | AE23: 45950 | AF23: =AE23-AD23 -> -5 | AG23: =IF(AI23="SI",0,J23) -> 7040.11 | AH23: =AG23*AF23 -> -35200.55 | AI23: NO
A24: 2025 | B24: 208 | C24: 45938 | D24: 7 | E24: 45937 | F24: Fattura di vendita | G24: 3500 | H24: 631.15 | I24: NO | J24: =IF(I24="SI",G24-H24,G24) -> 3500 | K24: B51E0BCA03 | L24: 2025 | M24: 4937 | N24: 45937 | O24: LAVOYER Nicole ( dott. commercialista) | P24: 01191190071 | Q24: LVYNCL88E52A326S | R24: 1 | S24: Amministrativa/Finanziaria | T24: 1000202 | U24: 10202 | V24: 10202 | W24: 2 | X24: 2025 | Y24: 291 | Z24: 0 | AA24: 45952 | AB24: 552 | AC24: 45952 | AD24: 45967 | AE24: 45954 | AF24: =AE24-AD24 -> -13 | AG24: =IF(AI24="SI",0,J24) -> 3500 | AH24: =AG24*AF24 -> -45500 | AI24: NO
A25: 2025 | B25: 209 | C25: 45938 | D25: FPA 9/25 | E25: 45926 | G25: 1650 | H25: 0 | I25: NO | J25: =IF(I25="SI",G25-H25,G25) -> 1650 | K25: B781588875 | L25: 2025 | M25: 4767 | N25: 45926 | O25: ASSOCIAZIONE DI PROMOZIONE SOCIALE ALTITUDINI A.P.S. | P25: 01295110074 | Q25: 91076050078 | R25: 1 | S25: Amministrativa/Finanziaria | T25: 1000202 | U25: 10202 | V25: 10202 | W25: 27 | X25: 2025 | Y25: 137 | Z25: 0 | AB25: 538 | AC25: 45945 | AD25: 45956 | AE25: 45950 | AF25: =AE25-AD25 -> -6 | AG25: =IF(AI25="SI",0,J25) -> 1650 | AH25: =AG25*AF25 -> -9900 | AI25: NO
A26: 2025 | B26: 210 | C26: 45938 | D26: FATTPA 161_25 | E26: 45915 | F26: SERVIZIO DI GESTIONE DELL'UFFICIO TURISTICO DI CHAMOIS_PERIODO 01/07/2025-30/09/2025 | G26: 4992.24 | H26: 900.24 | I26: SI | J26: =IF(I26="SI",G26-H26,G26) -> 4092 | K26: B76A26A707 | L26: 2025 | M26: 4700 | N26: 45923 | O26: ENJOY EVENTS srl | P26: 01102380076 | Q26: 01102380076 | R26: 1 | S26: Amministrativa/Finanziaria | T26: 1000202 | U26: 10202 | V26: 10202 | W26: 27 | X26: 2025 | Y26: 146 | Z26: 0 | AB26: 535 | AC26: 45945 | AD26: 45953 | AE26: 45950 | AF26: =AE26-AD26 -> -3 | AG26: =IF(AI26="SI",0,J26) -> 4092 | AH26: =AG26*AF26 -> -12276 | AI26: NO
A27: 2025 | B27: 211 | C27: 45938 | D27: 31 | E27: 45933 | F27: manutenzione straordinaria acquedotto comunale Raccordo Corgnolaz-La Villa | G27: 4105.3 | H27: 740.3 | I27: SI | J27: =IF(I27="SI",G27-H27,G27) -> 3365 | K27: B20D003A55 | L27: 2025 | M27: 4862 | N27: 45933 | O27: CLIMA SERVICE scarl | P27: 01058570076 | Q27: 01058570076 | R27: 2 | S27: Tecnico/Manutentiva | T27: 2000401 | U27: 20401 | V27: 20401 | W27: 501 | X27: 2024 | Y27: 185 | Z27: 0 | AA27: 45980 | AB27: 627 | AC27: 45980 | AD27: 45963 | AE27: 45985 | AF27: =AE27-AD27 -> 22 | AG27: =IF(AI27="SI",0,J27) -> 3365 | AH27: =AG27*AF27 -> 74030 | AI27: NO
A28: 2025 | B28: 212 | C28: 45940 | D28: FATTPA 174_25 | E28: 45931 | F28: SERVIZIO DI GESTIONE DELL'UFFICIO TURISTICO DI CHAMOIS_PERIODO 01/07/2025-30/09/2025 | G28: 4911.72 | H28: 885.72 | I28: SI | J28: =IF(I28="SI",G28-H28,G28) -> 4026 | K28: B76A26A707 | L28: 2025 | M28: 4987 | N28: 45939 | O28: ENJOY EVENTS srl | P28: 01102380076 | Q28: 01102380076 | R28: 1 | S28: Amministrativa/Finanziaria | T28: 1000202 | U28: 10202 | V28: 10202 | W28: 27 | X28: 2025 | Y28: 146 | Z28: 0 | AB28: 535 | AC28: 45945 | AD28: 45969 | AE28: 45950 | AF28: =AE28-AD28 -> -19 | AG28: =IF(AI28="SI",0,J28) -> 4026 | AH28: =AG28*AF28 -> -76494 | AI28: NO
A29: 2025 | B29: 216 | C29: 45950 | D29: 30 | E29: 45933 | G29: 5950.89 | H29: 1073.11 | I29: SI | J29: =IF(I29="SI",G29-H29,G29) -> 4877.78 | K29: 855917891F | L29: 2025 | M29: 5122 | N29: 45950 | O29: CLIMA SERVICE scarl | P29: 01058570076 | Q29: 01058570076 | R29: 2 | S29: Tecnico/Manutentiva | T29: 2000401 | U29: 20401 | V29: 20401 | W29: 35 | X29: 2025 | Y29: 378 | Z29: 0 | AA29: 45980 | AB29: 629 | AC29: 45980 | AD29: 45980 | AE29: 45985 | AF29: =AE29-AD29 -> 5 | AG29: =IF(AI29="SI",0,J29) -> 4877.78 | AH29: =AG29*AF29 -> 24388.9 | AI29: NO
A30: 2025 | B30: 217 | C30: 45950 | D30: 29 | E30: 45933 | G30: 3207.82 | H30: 578.46 | I30: SI | J30: =IF(I30="SI",G30-H30,G30) -> 2629.36 | K30: 855917891F | L30: 2025 | M30: 5123 | N30: 45950 | O30: CLIMA SERVICE scarl | P30: 01058570076 | Q30: 01058570076 | R30: 2 | S30: Tecnico/Manutentiva | T30: 2000401 | U30: 20401 | V30: 20401 | W30: 35 | X30: 2024 | Y30: 378 | Z30: 0 | AA30: 45980 | AB30: 628 | AC30: 45980 | AD30: 45980 | AE30: 45985 | AF30: =AE30-AD30 -> 5 | AG30: =IF(AI30="SI",0,J30) -> 2629.36 | AH30: =AG30*AF30 -> 13146.8 | AI30: NO
A31: 2025 | B31: 218 | C31: 45950 | D31: FE-2025_122 | E31: 45943 | F31: SERVIZIO DI SUPPORTO PIATTAFORMA ANPR TRIENNALE 2024-2026 | G31: 732 | H31: 132 | I31: SI | J31: =IF(I31="SI",G31-H31,G31) -> 600 | K31: B294531D9B | L31: 2025 | M31: 5107 | N31: 45946 | O31: DIGITALE SEMPLICE PER TUTTI SRL [DSPT] | P31: 12939070012 | Q31: 12939070012 | R31: 1 | S31: Amministrativa/Finanziaria | T31: 1000202 | U31: 10202 | V31: 10202 | W31: 11 | X31: 2025 | Y31: 207 | Z31: 0 | AA31: 45973 | AB31: 589 | AC31: 45975 | AD31: 45976 | AE31: 45979 | AF31: =AE31-AD31 -> 3 | AG31: =IF(AI31="SI",0,J31) -> 600 | AH31: =AG31*AF31 -> 1800 | AI31: NO
A32: 2025 | B32: 219 | C32: 45950 | D32: FE000120250003542967 | E32: 45946 | F32: FE000120250000000003542967B/BOLLETTAZIONE MASSIVA Fornitura di energia elettrica | G32: 593.57 | H32: 107.04 | I32: SI | J32: =IF(I32="SI",G32-H32,G32) -> 486.53 | K32: B521B71C55 | L32: 2025 | M32: 5108 | N32: 45947 | O32: AGSM AIM Energia S.p.A. | P32: 02968430237 | R32: 1 | S32: Amministrativa/Finanziaria | T32: 1000202 | U32: 10202 | V32: 10202 | W32: 20 | X32: 2025 | Y32: 279 | Z32: 0 | AA32: 45980 | AB32: 633 | AC32: 45980 | AD32: 45977 | AE32: 45985 | AF32: =AE32-AD32 -> 8 | AG32: =IF(AI32="SI",0,J32) -> 486.53 | AH32: =AG32*AF32 -> 3892.24 | AI32: NO
A33: 2025 | B33: 220 | C33: 45950 | D33: FE000120250003542947 | E33: 45946 | F33: FE000120250000000003542947B/BOLLETTAZIONE MASSIVA Fornitura di energia elettrica | G33: 445.57 | H33: 80.35 | I33: SI | J33: =IF(I33="SI",G33-H33,G33) -> 365.22 | K33: B521B71C55 | L33: 2025 | M33: 5109 | N33: 45947 | O33: AGSM AIM Energia S.p.A. | P33: 02968430237 | R33: 1 | S33: Amministrativa/Finanziaria | T33: 1000202 | U33: 10202 | V33: 10202 | W33: 20 | X33: 2025 | Y33: 279 | Z33: 0 | AA33: 45980 | AB33: 633 | AC33: 45980 | AD33: 45977 | AE33: 45985 | AF33: =AE33-AD33 -> 8 | AG33: =IF(AI33="SI",0,J33) -> 365.22 | AH33: =AG33*AF33 -> 2921.76 | AI33: NO
A34: 2025 | B34: 221 | C34: 45950 | D34: 240 | E34: 45945 | F34: Supporto alla manifestazione il Gusto di una Passeggiata 2025 | G34: 2100 | H34: 378.69 | I34: SI | J34: =IF(I34="SI",G34-H34,G34) -> 1721.31 | L34: 2025 | M34: 5083 | N34: 45945 | O34: CHAMOIS SERVIZI S.R.L. | P34: 01033180074 | Q34: 01033180074 | R34: 1 | S34: Amministrativa/Finanziaria | T34: 1000202 | U34: 10202 | V34: 10202 | W34: 27 | X34: 2025 | Y34: 157 | Z34: 0 | AA34: 45973 | AB34: 580 | AC34: 45975 | AD34: 45975 | AE34: 45979 | AF34: =AE34-AD34 -> 4 | AG34: =IF(AI34="SI",0,J34) -> 1721.31 | AH34: =AG34*AF34 -> 6885.24 | AI34: NO
A35: 2025 | B35: 222 | C35: 45950 | D35: 239 | E35: 45945 | F35: SUPPORTO ALLE MANIFESTAZIONI LUGLIO - DICEMBRE 2025 | G35: 583 | H35: 53.89 | I35: SI | J35: =IF(I35="SI",G35-H35,G35) -> 529.11 | L35: 2025 | M35: 5082 | N35: 45945 | O35: CHAMOIS SERVIZI S.R.L. | P35: 01033180074 | Q35: 01033180074 | R35: 1 | S35: Amministrativa/Finanziaria | T35: 1000202 | U35: 10202 | V35: 10202 | W35: 27 | X35: 2025 | Y35: 196 | Z35: 0 | AA35: 45973 | AB35: 583 | AC35: 45975 | AD35: 45975 | AE35: 45979 | AF35: =AE35-AD35 -> 4 | AG35: =IF(AI35="SI",0,J35) -> 529.11 | AH35: =AG35*AF35 -> 2116.44 | AI35: NO
A36: 2025 | B36: 223 | C36: 45950 | D36: 238 | E36: 45945 | F36: SUPPORTO ALLE MANIFESTAZIONI LUGLIO - DICEMBRE 2025 | G36: 6342.57 | H36: 1143.74 | I36: SI | J36: =IF(I36="SI",G36-H36,G36) -> 5198.83 | L36: 2025 | M36: 5081 | N36: 45945 | O36: CHAMOIS SERVIZI S.R.L. | P36: 01033180074 | Q36: 01033180074 | R36: 1 | S36: Amministrativa/Finanziaria | T36: 1000202 | U36: 10202 | V36: 10202 | W36: 27 | X36: 2025 | Y36: 196 | Z36: 0 | AA36: 45973 | AB36: 582 | AC36: 45975 | AD36: 45975 | AE36: 45979 | AF36: =AE36-AD36 -> 4 | AG36: =IF(AI36="SI",0,J36) -> 5198.83 | AH36: =AG36*AF36 -> 20795.32 | AI36: NO
A37: 2025 | B37: 224 | C37: 45950 | D37: 236 | E37: 45945 | F37: Gestione soccorso interno 2025 | G37: 3459.92 | H37: 623.92 | I37: SI | J37: =IF(I37="SI",G37-H37,G37) -> 2836 | L37: 2025 | M37: 5080 | N37: 45945 | O37: CHAMOIS SERVIZI S.R.L. | P37: 01033180074 | Q37: 01033180074 | R37: 2 | S37: Tecnico/Manutentiva | T37: 1000402 | U37: 10402 | V37: 10402 | W37: 26 | X37: 2025 | Y37: 156 | Z37: 0 | AA37: 45973 | AB37: 587 | AC37: 45975 | AD37: 45975 | AE37: 45979 | AF37: =AE37-AD37 -> 4 | AG37: =IF(AI37="SI",0,J37) -> 2836 | AH37: =AG37*AF37 -> 11344 | AI37: NO
A38: 2025 | B38: 225 | C38: 45950 | D38: 235 | E38: 45945 | F38: Servizio di manutenzione ordinaria illuminazione pubblica 2025 | G38: 941.02 | H38: 169.69 | I38: SI | J38: =IF(I38="SI",G38-H38,G38) -> 771.33 | L38: 2025 | M38: 5084 | N38: 45945 | O38: CHAMOIS SERVIZI S.R.L. | P38: 01033180074 | Q38: 01033180074 | R38: 2 | S38: Tecnico/Manutentiva | T38: 1000402 | U38: 10402 | V38: 10402 | W38: 13 | X38: 2025 | Y38: 316 | Z38: 0 | AA38: 45973 | AB38: 586 | AC38: 45975 | AD38: 45975 | AE38: 45979 | AF38: =AE38-AD38 -> 4 | AG38: =IF(AI38="SI",0,J38) -> 771.33 | AH38: =AG38*AF38 -> 3085.32 | AI38: NO
A39: 2025 | B39: 226 | C39: 45950 | D39: 234 | E39: 45945 | F39: Manutenzione straordinaria immobili comuncali 2025 | G39: 3343.81 | H39: 602.98 | I39: SI | J39: =IF(I39="SI",G39-H39,G39) -> 2740.83 | L39: 2025 | M39: 5077 | N39: 45945 | O39: CHAMOIS SERVIZI S.R.L. | P39: 01033180074 | Q39: 01033180074 | R39: 2 | S39: Tecnico/Manutentiva | T39: 2000401 | U39: 20401 | V39: 20401 | W39: 50 | X39: 2025 | Y39: 151 | Z39: 0 | AA39: 45980 | AB39: 630 | AC39: 45980 | AD39: 45975 | AE39: 45985 | AF39: =AE39-AD39 -> 10 | AG39: =IF(AI39="SI",0,J39) -> 2740.83 | AH39: =AG39*AF39 -> 27408.3 | AI39: NO
A40: 2025 | B40: 227 | C40: 45950 | D40: 233 | E40: 45945 | F40: Manutenzione straordinaria strade 2025 | G40: 22721.69 | H40: 4097.35 | I40: SI | J40: =IF(I40="SI",G40-H40,G40) -> 18624.34 | L40: 2025 | M40: 5085 | N40: 45945 | O40: CHAMOIS SERVIZI S.R.L. | P40: 01033180074 | Q40: 01033180074 | R40: 2 | S40: Tecnico/Manutentiva | T40: 2000401 | U40: 20401 | V40: 20401 | W40: 8 | X40: 2025 | Y40: 153 | Z40: 0 | AA40: 45980 | AB40: 631 | AC40: 45980 | AD40: 45975 | AE40: 45985 | AF40: =AE40-AD40 -> 10 | AG40: =IF(AI40="SI",0,J40) -> 18624.34 | AH40: =AG40*AF40 -> 186243.4 | AI40: NO
A41: 2025 | B41: 228 | C41: 45950 | D41: 232 | E41: 45945 | F41: Raccolta RSU | G41: 12332.38 | H41: 1121.13 | I41: SI | J41: =IF(I41="SI",G41-H41,G41) -> 11211.25 | L41: 2025 | M41: 5076 | N41: 45945 | O41: CHAMOIS SERVIZI S.R.L. | P41: 01033180074 | Q41: 01033180074 | R41: 2 | S41: Tecnico/Manutentiva | T41: 1000402 | U41: 10402 | V41: 10402 | W41: 21 | X41: 2025 | Y41: 311 | Z41: 0 | AA41: 45973 | AB41: 584 | AC41: 45975 | AD41: 45975 | AE41: 45979 | AF41: =AE41-AD41 -> 4 | AG41: =IF(AI41="SI",0,J41) -> 11211.25 | AH41: =AG41*AF41 -> 44845 | AI41: NO
A42: 2025 | B42: 229 | C42: 45950 | D42: 231 | E42: 45945 | F42: TRASPORTO EXTRA LUGLIO - DICEMBRE 2025 | G42: 4669 | H42: 841.95 | I42: SI | J42: =IF(I42="SI",G42-H42,G42) -> 3827.05 | L42: 2025 | M42: 5078 | N42: 45945 | O42: CHAMOIS SERVIZI S.R.L. | P42: 01033180074 | Q42: 01033180074 | R42: 1 | S42: Amministrativa/Finanziaria | T42: 1000202 | U42: 10202 | V42: 10202 | W42: 27 | X42: 2025 | Y42: 195 | Z42: 0 | AA42: 45973 | AB42: 581 | AC42: 45975 | AD42: 45975 | AE42: 45979 | AF42: =AE42-AD42 -> 4 | AG42: =IF(AI42="SI",0,J42) -> 3827.05 | AH42: =AG42*AF42 -> 15308.2 | AI42: NO
...

Sheet MandatiTempi
A1: Comune di Chamois
A3: Tempestività dei Pagamenti - Elenco Mandati senza Fatture - Periodo 01/10/2025 - 31/12/2025
A5: Dati Fattura | K5: Calcolo
A6: Numero Mandato | B6: Data Mandato | C6: Creditore | D6: Causale Mandato | E6: Provvedimento Impegno | F6: Area Gestione | G6: Codice CIG | H6: Codice Siope | I6: Descrizione Siope | J6: Importo Mandato | K6: Data Scadenza (A) | L6: Data Pagamento (B) | M6: Differenza giorni (C=B-A) | N6: Importo Fattura (D) | O6: Indicatore Fattura (E=C X D)
A7: 516 | B7: 45938 | C7: Unité des Communes Valdotaines Mont-Cervin | D7: Scheda n.10 - Rsu - 30% | J7: 15500.4 | L7: 45938 | M7: =IF(K7<>"",L7-K7,0) -> 0 | N7: 15500.4 | O7: =IF(K7<>"",N7*M7,0) -> 0 | P7: =IF(K7<>"",N7,0) -> 0
A8: 517 | B8: 45938 | C8: Unité des Communes Valdotaines Mont-Cervin | D8: Scheda n.11 - Servizio tributi - 60% | J8: 5721.6 | L8: 45938 | M8: =IF(K8<>"",L8-K8,0) -> 0 | N8: 5721.6 | O8: =IF(K8<>"",N8*M8,0) -> 0 | P8: =IF(K8<>"",N8,0) -> 0
A9: 526 | B9: 45945 | C9: TORACCA Roberto | D9: COMPONENTI SEGGIO ELEZIONI REGIONALI E COMUNALI 28 SETTEMBRE - PRESIDENTE | J9: 187 | L9: 45945 | M9: =IF(K9<>"",L9-K9,0) -> 0 | N9: 187 | O9: =IF(K9<>"",N9*M9,0) -> 0 | P9: =IF(K9<>"",N9,0) -> 0
A10: 527 | B10: 45945 | C10: LANTERNA LAURA | D10: COMPONENTI SEGGIO ELEZIONI REGIONALI E COMUNALI 28 SETTEMBRE - VICE PRESIDENTE | J10: 148 | L10: 45945 | M10: =IF(K10<>"",L10-K10,0) -> 0 | N10: 148 | O10: =IF(K10<>"",N10*M10,0) -> 0 | P10: =IF(K10<>"",N10,0) -> 0
A11: 528 | B11: 45945 | C11: RIGOLLET ANGELA | D11: COMPONENTI SEGGIO ELEZIONI REGIONALI E COMUNALI 28 SETTEMBRE - SCRUTATORE | J11: 148 | L11: 45945 | M11: =IF(K11<>"",L11-K11,0) -> 0 | N11: 148 | O11: =IF(K11<>"",N11*M11,0) -> 0 | P11: =IF(K11<>"",N11,0) -> 0
A12: 529 | B12: 45945 | C12: REVIL IVANA | D12: COMPONENTI SEGGIO ELEZIONI REGIONALI E COMUNALI 28 SETTEMBRE - SCRUTATORE | J12: 148 | L12: 45945 | M12: =IF(K12<>"",L12-K12,0) -> 0 | N12: 148 | O12: =IF(K12<>"",N12*M12,0) -> 0 | P12: =IF(K12<>"",N12,0) -> 0
A13: 530 | B13: 45945 | C13: LUBRINI PATRICK | D13: COMPONENTI SEGGIO ELEZIONI REGIONALI E COMUNALI 28 SETTEMBRE - SEGRETARIO | J13: 148 | L13: 45945 | M13: =IF(K13<>"",L13-K13,0) -> 0 | N13: 148 | O13: =IF(K13<>"",N13*M13,0) -> 0 | P13: =IF(K13<>"",N13,0) -> 0
A14: 532 | B14: 45945 | C14: GSE SPA - Gestore dei Servizi Energetici S.p.A. | D14: Pagamento Fatt. n. 2025033106 del 13/05/2025; n. 2025033644 del 23/05/2025 | J14: 13.2 | L14: 45945 | M14: =IF(K14<>"",L14-K14,0) -> 0 | N14: 13.2 | O14: =IF(K14<>"",N14*M14,0) -> 0 | P14: =IF(K14<>"",N14,0) -> 0
A15: 540 | B15: 45947 | C15: NEXY PAYMENT SPA | D15: COMMISSIONI | J15: 5.19 | L15: 45947 | M15: =IF(K15<>"",L15-K15,0) -> 0 | N15: 5.19 | O15: =IF(K15<>"",N15*M15,0) -> 0 | P15: =IF(K15<>"",N15,0) -> 0
A16: 553 | B16: 45952 | C16: NAVILLOD GIAN MARIO | D16: Servizio di escursioni invernali. - Mese di: OTTOBRE | J16: 1200 | L16: 45952 | M16: =IF(K16<>"",L16-K16,0) -> 0 | N16: 1200 | O16: =IF(K16<>"",N16*M16,0) -> 0 | P16: =IF(K16<>"",N16,0) -> 0
A17: 555 | B17: 45952 | C17: Unité des Communes Valdotaines Mont-Cervin | D17: LIQUIDAZIONE SCHEDA FUNZIONAMENTO SALDO 2025 | J17: 480 | L17: 45952 | M17: =IF(K17<>"",L17-K17,0) -> 0 | N17: 480 | O17: =IF(K17<>"",N17*M17,0) -> 0 | P17: =IF(K17<>"",N17,0) -> 0
A18: 557 | B18: 45952 | C18: Unité des Communes Valdotaines Mont-Cervin | D18: LIQUIDAZIONE SCHEDA FUNZIONAMENTO SALDO 2025 | J18: 6092.4 | L18: 45952 | M18: =IF(K18<>"",L18-K18,0) -> 0 | N18: 6092.4 | O18: =IF(K18<>"",N18*M18,0) -> 0 | P18: =IF(K18<>"",N18,0) -> 0
... A62: 705 | B62: 46015 | C62: FOPADIVA/FONDOMAIN | D62: Pagamento Fatt. n. Atto 295 - 2025/258 del 24/12/2025 - SANZIONE PER RITARDATO PAGAMENTO I TRIM 2025 | J62: 30.67 | L62: 46015 | M62: =IF(K62<>"",L62-K62,0) -> 0 | N62: 30.67 | O62: =IF(K62<>"",N62*M62,0) -> 0 | P62: =IF(K62<>"",N62,0) -> 0
M64: TOTALI MANDATI: | N64: =SUBTOTAL(9,P7:P62) -> 0 | O64: =SUBTOTAL(9,O7:O62) -> 0
M65: IND. TEMPESTIVITA' MANDATI: | O65: =IF(N64<>0,O65/N65,0) -> 0
M67: TOTALI FATTURE: | N67: =FattureTempi!AG81 -> 367453.39 | O67: =FattureTempi!AH81 -> 152198.92
M68: IND. TEMPESTIVITA' FATTURE: | O68: =FattureTempi!AH82 -> 0.41419925
M70: TOTALI FINALI | N70: =N67+N64 -> 367453.39 | O70: =O67+O64 -> 152198.92
M71: IND. TEMPESTIVITA' FINALE: | O71: =(O70/N70) -> 0.41419925

Sheet IndicatoreRiduzioneDebitoCR
A3: Indicatore di Riduzione del Debito Commerciale Residuo
A5: Indicatore di Riduzione del Debito Commerciale Residuo | C5: RISPETTATO | E5: =IF(OR(L13="SI",L15="SI"),"SI","NO") -> SI | N5: Rispettato se (1) o (2) è uguale a SI
A7: Ammontare Complessivo dei Debiti 2020 (STOCK - 1) | C7: =Debiti!G6 -> 0 | E7: (*) Importo Complessivo dei Debiti al Netto dell'Iva | N7: *Vedi dettaglio nel foglio Debiti
A9: Importo Totale Fatture dell'Anno (LORDO) | C9: =ElencoFatture!O6 -> 0 | E9: 5% dell'Importo Totale delle Fatture | F9: 5 % fatture | G9: =C9/100*5 -> 0
A10: Importo Totale Fatture dell'Anno (IVA) | C10: =ElencoFatture!O7 -> 0
A11: Importo Totale Fatture dell'Anno (NETTO) | C11: =ElencoFatture!O8 -> 0 | E11: 5% dell'Importo Totale delle Fatture | G11: =C11/100*5 -> 0 | N11: *Vedi dettaglio nel foglio ElencoFatture
A13: Importo Totale Fatture dell'Anno | C13: =C11 -> 0 | E13: 5% dell'Importo Totale delle Fatture | G13: =C13/100*5 -> 0 | I13: (STOCK - 1) <= 5 % dell'Importo delle fatture | L13: =IF(ROUND(C7,2)<=ROUND(G13,2),"SI","NO") -> SI | N13: (1)
A15: Ammontare Complessivo dei Debiti 2019 (STOCK - 2) | C15: 0 | E15: Rapporto Stock (R) = (STOCK - 1) / (STOCK - 2) | G15: =IF(OR(C15=0, C15="0,00"),0,C7/C15) -> 0 | I15: (R) <= 0,90 | L15: =IF(G15<=0.9,"SI","NO") -> SI | N15: (2)
A18: L’algoritmo per il calcolo dell’indicatore di riduzione del debito è il seguente:
A19: - calcoliamo l’ammontare dello stock di debiti commerciali residui scaduti e non pagati alla fine dell’esercizio precedente, che chiameremo STOCK-1;
A20: - se STOCK-1 è minore o uguale al 5% del totale delle fatture ricevute nell’esercizio precedente:
A21: o l’indicatore individua un caso da non sanzionare sotto il profilo della mancata riduzione del debito pregresso e si passa ad elaborare l’indicatore di ritardo annuale dei pagamenti;
A22: - altrimenti (STOCK-1 maggiore del 5% del totale fatture):
A23: o calcoliamo l’ammontare dello stock di debiti commerciali residui scaduti e non pagati alla fine del secondo esercizio precedente, che chiameremo STOCK-2;
A24: o calcoliamo il rapporto dei due importi R=(STOCK-1)/(STOCK-2)
A25: > se R <= 0,9 allora l’indicatore individua un caso da non sanzionare sotto il profilo della mancata riduzione del debito pregresso e si passa ad elaborare il ritardo annuale dei pagamenti;
A26: > se R > 0,9 allora l’indicatore fa scattare l’obbligo di accantonamento per mancata riduzione del debito pregresso secondo la quota massima del 5%.
A27: (Da Nota IFEL del 21/11/2019)

Sheet Debiti
A3: Ammontare Complessivo dei Debiti e Numero Imprese Creditrici
A5: Ammontare Complessivo dei Debiti | G5: 0
A6: Numero Imprese Creditrici | G6: 0
A8: Registrazione | D8: Documento | M8: Protocollo | P8: Creditore | S8: Area Gestione | U8: Capitolo di Bilancio | Y8: Impegno | AB8: Liquidazione | AC8: Scadenza
A9: Anno | B9: Progr. | C9: Data | D9: Numero | E9: Data | F9: Descrizione | G9: Importo Fattura | H9: IVA | I9: Scissione Pagamenti | J9: Importo Dovuto | K9: CIG | L9: Identificativo SDI | M9: Anno | N9: Numero | O9: Data | P9: Ragione Sociale | Q9: Partita IVA | R9: Codice Fiscale | S9: Codice | T9: Descrizione | U9: Codice | V9: Voce | W9: Capitolo | X9: Articolo | Y9: Anno | Z9: Numero | AA9: Sub | AB9: Data | AC9: Data Scadenza

Sheet ElencoFatture
A3: Indicatore di Riduzione del Debito Residuo - Elenco Fatture dell'Anno
A5: Importi TOTALI | J5: Importi CALCOLO
C6: Importo Totale Fatture dell'Anno (LORDO) | H6: 0 | J6: Importo Totale Fatture dell'Anno (LORDO) | O6: 0
C7: Importo Totale Fatture dell'Anno (IVA SPLIT PAYMENT) | H7: 0 | J7: Importo Totale Fatture dell'Anno (IVA SPLIT PAYMENT) | O7: 0
C8: Importo Totale Fatture dell'Anno (NETTO IVA SPLIT PAYMENT) | H8: =H6-H7 -> 0 | J8: Importo Totale Fatture dell'Anno (NETTO SPLIT PAYMENT) | O8: 0
A10: Vengono visualizzate tutte le Fatture Acquisto la cui data PEC (in altrnativa se non valorizzata Data Protocollo o Data Registrazione) è del 2020
A11: Registrazione | C11: Documento | J11: Creditore | M11: Calcolo
A12: Anno | B12: Numero Movimento | C12: Numero | D12: Data | E12: Stato Fattura (I / L / P) | F12: Descrizione | G12: CIG | H12: Importo Fattura | I12: IVA | J12: Ragione Sociale | K12: Partita IVA | L12: Data PEC / Data Protocollo/ Data Registrazione | M12: Importo Fattura | N12: Importo IVA | O12: Importo Calcolo | P12: ESCLUDI DAL CALCOLO | Q12: Scissione Pagamenti
